Workbook
Name _1_: #REF!
Name _2ecm: #REF!
Name _3ecw: #REF!
Name AME: OFFSET([9]AME!$H$15,0,0,MAX([9]AME!$B$15:$B100),1)
Name CDEL: OFFSET([9]CDEL!$G$15,0,0,MAX([9]CDEL!$B$15:$B100),1)
Name CLASSIFICATION: [11]Menus!$C$2:$C$6
Name datazone: '[12]Data (monthly)'!$A$3:$AN$2314
Name Days: [13]QsYs!$J:$J
Name DEPR: #REF!
Name dwl_data: [14]Download!$B$2:$CE$81
Name dwl_data_fy: [15]Download!$B$65:$CE$79
Name dwl_dates: [14]Download!$A$2:$A$81
Name dwl_dates_fy: [15]Download!$A$65:$A$79
Name dwl_vars: [14]Download!$B$1:$CE$1
Name Ev: [16]Determinants!$CL$2:$CL$8
Name General_CDEL: OFFSET([9]CDEL!$G$17,0,0,MAX([9]CDEL!$B$17:$B100)-1,1)
Name General_RDEL: OFFSET([9]RDEL!$G$17,0,0,MAX([9]RDEL!$B$17:$B100)-1,1)
Name Key: [17]Tracker!$P$2:$P$4
Name Migration: #REF!
Name Months: [18]Tracker!$X$2:$X$261
Name RDEL: OFFSET([9]RDEL!$G$15,0,0,MAX([9]RDEL!$B$15:$B100),1)
Name Receipts: OFFSET([9]Receipts!$D$15,0,0,MAX([9]Receipts!$B$15:$B100),1)
Name Sumif_count: '[9]HMT Scorecard (Inputs)'!$A$509
Name Supplementary_tables: '[9]INPUT - HMT Final scorecard'!$C$5:$C$256

Sheet Contents
B2: Supplementary tables
B4: This spreadsheet was published alongside the July 2021 Fiscal risks report
B5: This spreadsheet shows the numbers underpinning the climate change scenarios in Chapter 3 of our 2021 Fiscal risks report. To construct paths for each of these, we draw on scenarios produced by the Climate Change Committee (CCC) for whole economy costs and savings from decarbonisation, and by the Bank of England for the price of carbon necessary to achieve net zero and its economic implications. The economic and fiscal consequences of the transition to net zero are subject to many sources of uncertainty. We therefore also consider alternative scenarios and sensitivities including delayed action, variations in productivity and the public sector spending share, and the potential for offsetting fiscal adjustments.
B10: We would welcome any feedback on the detail or format of this database to feedback@obr.uk
B12: July 2021 Fiscal risks report: Supplementary Tables
C13: Table 1.1: Hypothetical baseline
C14: Table 1.2: Early action scenario
C15: Table 1.3: Late action scenario
C16: Table 1.4: High productivity variant
C17: Table 1.4: Productivity gains
C18: Table 1.5: Low productivity variant
C19: Table 1.6: High public spending share variant
C20: Table 1.7: Low public spending share variant
C21: Table 1.8: Net-zero CAPEX spending allocated from within existing PSNI totals
C22: Table 1.9: Motoring tax revenues maintained
C23: Table 1.10: Combination of motoring tax revenues maintained and net-zero CAPEX spending allocated from within existing PSNI totals
C24: Table 1.11: Central spending assumptions
... C28: Table 1.15: Carbon tax revenues in the late action scenario

Sheet 1.1
A1: Back to contents
B2: Table 1.1: Hypothetical baseline
B4: £ billion, unless otherwise stated | C4: 2019-20 | D4: 2020-21 | E4: 2021-22 | F4: 2022-23 | G4: 2023-24 | H4: 2024-25 | I4: 2025-26 | J4: 2026-27 | K4: 2027-28 | L4: 2028-29 | M4: 2029-30 | N4: 2030-31 | O4: 2031-32 | P4: 2032-33 | Q4: 2033-34 | R4: 2034-35 | S4: 2035-36 | T4: 2036-37 | U4: 2037-38 | V4: 2038-39 | W4: 2039-40 | X4: 2040-41 | Y4: 2041-42 | Z4: 2042-43 | AA4: 2043-44 | AB4: 2044-45 | AC4: 2045-46 | AD4: 2046-47 | AE4: 2047-48 | AF4: 2048-49 | AG4: 2049-50 | AH4: 2050-51
B5: Nominal GDP | C5: 2220.063 | D5: 2101.287 | E5: 2264.7214 | F5: 2374.6056 | G5: 2459.1633 | H5: 2551.7255 | I5: 2651.7214 | J5: 2760.4475 | K5: 2873.1345 | L5: 2990.0062 | M5: 3110.7194 | N5: 3235.149 | O5: 3363.2881 | P5: 3495.3372 | Q5: 3632.1218 | R5: 3773.3826 | S5: 3918.8557 | T5: 4075.0234 | U5: 4237.1972 | V5: 4405.3689 | W5: 4579.0424 | X5: 4758.2132 | Y5: 4943.37 | Z5: 5134.4142 | AA5: 5331.3396 | AB5: 5534.4525 | AC5: 5744.1639 | AD5: 5960.6658 | AE5: 6183.5689 | AF5: 6413.45 | AG5: 6650.9544 | AH5: 6897.0053
B6: Nominal GDP (Percentage change on a year earlier) | C6: 2.6511924 | D6: -5.3501174 | E6: 7.7778234 | F6: 4.8519952 | G6: 3.5609149 | H6: 3.763972 | I6: 3.9187545 | J6: 4.1002103 | K6: 4.0821999 | L6: 4.0677412 | M6: 4.0372231 | N6: 4.000026 | O6: 3.960841 | P6: 3.9261911 | Q6: 3.9133441 | R6: 3.8892106 | S6: 3.8552435 | T6: 3.9850338 | U6: 3.9797002 | V6: 3.9689379 | W6: 3.942314 | X6: 3.9128456 | Y6: 3.8913096 | Z6: 3.8646556 | AA6: 3.8353999 | AB6: 3.8097912 | AC6: 3.7891995 | AD6: 3.7690762 | AE6: 3.7395673 | AF6: 3.7176121 | AG6: 3.7032236 | AH6: 3.6994815
B7: Real GDP | C7: 2206.0188 | D7: 1950.265 | E7: 2136.4174 | F7: 2243.2169 | G7: 2276.9803 | H7: 2314.3734 | I7: 2354.701 | J7: 2396.0699 | K7: 2437.8126 | L7: 2479.9379 | M7: 2522.0513 | N7: 2563.9629 | O7: 2605.5889 | P7: 2647.0081 | Q7: 2688.7533 | R7: 2730.5225 | S7: 2772.034 | T7: 2817.6936 | U7: 2863.9583 | V7: 2910.6814 | W7: 2957.4091 | X7: 3004.0352 | Y7: 3050.7639 | Z7: 3097.4247 | AA7: 3143.9133 | AB7: 3190.3126 | AC7: 3236.7546 | AD7: 3283.2359 | AE7: 3329.4377 | AF7: 3375.575 | AG7: 3421.8769 | AH7: 3468.6888
B8: Real GDP (Percentage change on a year earlier) | C8: 0.44000534 | D8: -11.593456 | E8: 9.5449805 | F8: 4.9990013 | G8: 1.5051304 | H8: 1.6422232 | I8: 1.7424842 | J8: 1.7568656 | K8: 1.7421309 | L8: 1.7279972 | M8: 1.6981653 | N8: 1.6618045 | O8: 1.6235005 | P8: 1.5896296 | Q8: 1.5770715 | R8: 1.5534806 | S8: 1.5202771 | T8: 1.6471494 | U8: 1.6419357 | V8: 1.6314153 | W8: 1.60539 | X8: 1.5765842 | Y8: 1.5555324 | Z8: 1.5294776 | AA8: 1.5008797 | AB8: 1.4758467 | AC8: 1.455718 | AD8: 1.4360471 | AE8: 1.4072016 | AF8: 1.3857401 | AG8: 1.3716751 | AH8: 1.3680172
B9: Primary receipts | C9: 800.843 | D9: 762.78931 | E9: 794.18247 | F9: 858.97917 | G9: 916.26415 | H9: 963.37584 | I9: 1004.5178 | J9: 1045.7052 | K9: 1088.393 | L9: 1132.666 | M9: 1178.3942 | N9: 1225.5303 | O9: 1274.0716 | P9: 1324.0941 | Q9: 1375.9104 | R9: 1429.4225 | S9: 1484.5302 | T9: 1543.6893 | U9: 1605.1235 | V9: 1668.8298 | W9: 1734.6203 | X9: 1802.4933 | Y9: 1872.6339 | Z9: 1945.0048 | AA9: 2019.6035 | AB9: 2096.5462 | AC9: 2175.9885 | AD9: 2258.0032 | AE9: 2342.4427 | AF9: 2429.5256 | AG9: 2519.4964 | AH9: 2612.7047
B10: of which:
B11: Fuel duty | C11: 27.572 | D11: 21.53798 | E11: 26.031758 | F11: 29.225207 | G11: 30.145399 | H11: 30.593823 | I11: 31.187537 | J11: 32.466292 | K11: 33.791631 | L11: 35.166187 | M11: 36.585924 | N11: 38.049371 | O11: 39.556446 | P11: 41.109507 | Q11: 42.718264 | R11: 44.379667 | S11: 46.090611 | T11: 47.927338 | U11: 49.834702 | V11: 51.812611 | W11: 53.855226 | X11: 55.962498 | Y11: 58.140172 | Z11: 60.38709 | AA11: 62.703176 | AB11: 65.092036 | AC11: 67.558503 | AD11: 70.104835 | AE11: 72.726452 | AF11: 75.43014 | AG11: 78.223486 | AH11: 81.11735
B12: VED | C12: 6.771 | D12: 6.938 | E12: 7.008 | F12: 7.065 | G12: 7.18 | H12: 7.296 | I12: 7.463 | J12: 7.7689987 | K12: 8.0861448 | L12: 8.4150682 | M12: 8.7548033 | N12: 9.1049977 | O12: 9.4656322 | P12: 9.837271 | Q12: 10.222237 | R12: 10.619802 | S12: 11.029221 | T12: 11.468739 | U12: 11.92516 | V12: 12.398463 | W12: 12.887249 | X12: 13.391507 | Y12: 13.912612 | Z12: 14.450287 | AA12: 15.004513 | AB12: 15.576153 | AC12: 16.166365 | AD12: 16.775688 | AE12: 17.403026 | AF12: 18.050003 | AG12: 18.718435 | AH12: 19.41092
B13: APD | C13: 3.655 | D13: 0.60476139 | E13: 1.3482154 | F13: 2.0220758 | G13: 3.0955134 | H13: 4.2726865 | I13: 4.4249254 | J13: 4.6063567 | K13: 4.7943974 | L13: 4.9894211 | M13: 5.1908551 | N13: 5.3984907 | O13: 5.6123163 | P13: 5.8326666 | Q13: 6.0609189 | R13: 6.2966408 | S13: 6.5393916 | T13: 6.7999886 | U13: 7.0706077 | V13: 7.3512358 | W13: 7.6410446 | X13: 7.9400268 | Y13: 8.2489979 | Z13: 8.5677932 | AA13: 8.8964024 | AB13: 9.2353367 | AC13: 9.585282 | AD13: 9.9465586 | AE13: 10.318517 | AF13: 10.702119 | AG13: 11.098443 | AH13: 11.509028
B14: Landfill | C14: 0.732 | D14: 0.71876983 | E14: 0.74131054 | F14: 0.71421953 | G14: 0.62516095 | H14: 0.61042796 | I14: 0.62501976 | J14: 0.65064688 | K14: 0.67720759 | L14: 0.70475464 | M14: 0.73320716 | N14: 0.76253563 | O14: 0.79273846 | P14: 0.82386288 | Q14: 0.85610347 | R14: 0.88939914 | S14: 0.92368764 | T14: 0.96049691 | U14: 0.9987218 | V14: 1.0383605 | W14: 1.0792959 | X14: 1.1215271 | Y14: 1.1651692 | Z14: 1.2101989 | AA14: 1.2566149 | AB14: 1.3044893 | AC14: 1.353919 | AD14: 1.4049492 | AE14: 1.4574883 | AF14: 1.511672 | AG14: 1.5676526 | AH14: 1.6256476
B15: Plastics | C15: 0 | D15: 0 | E15: 0 | F15: 0.30153077 | G15: 0.2438767 | H15: 0.22499325 | I15: 0.2126082 | J15: 0.22132558 | K15: 0.23036053 | L15: 0.239731 | M15: 0.24940948 | N15: 0.25938592 | O15: 0.26965979 | P15: 0.28024714 | Q15: 0.29121418 | R15: 0.30254011 | S15: 0.31420377 | T15: 0.3267249 | U15: 0.33972757 | V15: 0.35321114 | W15: 0.36713584 | X15: 0.3815013 | Y15: 0.39634669 | Z15: 0.41166413 | AA15: 0.42745309 | AB15: 0.44373816 | AC15: 0.46055229 | AD15: 0.47791085 | AE15: 0.49578265 | AF15: 0.51421393 | AG15: 0.53325642 | AH15: 0.55298414
B16: Carbon tax | C16: 1.5812711 | D16: 1.7214706 | E16: 1.7354169 | F16: 1.6910443 | G16: 1.6957065 | H16: 1.697572 | I16: 1.6310708 | J16: 1.6979481 | K16: 1.7672617 | L16: 1.8391494 | M16: 1.9133999 | N16: 1.9899364 | O16: 2.0687546 | P16: 2.1499779 | Q16: 2.2341139 | R16: 2.3210033 | S16: 2.4104836 | T16: 2.5065422 | U16: 2.6062951 | V16: 2.7097373 | W16: 2.8165637 | X16: 2.9267715 | Y16: 3.0406612 | Z16: 3.1581723 | AA16: 3.2793008 | AB16: 3.4042354 | AC16: 3.5332286 | AD16: 3.6663987 | AE16: 3.8035061 | AF16: 3.9449058 | AG16: 4.0909944 | AH16: 4.24234
B17: Road tax | C17: 0 | D17: 0 | E17: 0 | F17: 0 | G17: 0 | H17: 0 | I17: 0 | J17: 0 | K17: 0 | L17: 0 | M17: 0 | N17: 0 | O17: 0 | P17: 0 | Q17: 0 | R17: 0 | S17: 0 | T17: 0 | U17: 0 | V17: 0 | W17: 0 | X17: 0 | Y17: 0 | Z17: 0 | AA17: 0 | AB17: 0 | AC17: 0 | AD17: 0 | AE17: 0 | AF17: 0 | AG17: 0 | AH17: 0
B18: Non net zero related receipts | C18: 760.53173 | D18: 731.26833 | E18: 757.31777 | F18: 817.96009 | G18: 873.2785 | H18: 918.68034 | I18: 958.97368 | J18: 998.29362 | K18: 1039.046 | L18: 1081.3117 | M18: 1124.9666 | N18: 1169.9656 | O18: 1216.3061 | P18: 1264.0606 | Q18: 1313.5276 | R18: 1364.6135 | S18: 1417.2226 | T18: 1473.6994 | U18: 1532.3482 | V18: 1593.1662 | W18: 1655.9738 | X18: 1720.7695 | Y18: 1787.73 | Z18: 1856.8196 | AA18: 1928.036 | AB18: 2001.4902 | AC18: 2077.3306 | AD18: 2155.6268 | AE18: 2236.2379 | AF18: 2319.3726 | AG18: 2405.2641 | AH18: 2494.2464
B19: Primary spending | C19: 830.44 | D19: 1097.8293 | E19: 1008.1873 | F19: 946.52595 | G19: 980.03974 | H19: 1014.0874 | I19: 1053.1779 | J19: 1091.1773 | K19: 1130.9334 | L19: 1172.011 | M19: 1214.2577 | N19: 1257.5979 | O19: 1302.0041 | P19: 1347.5296 | Q19: 1394.4701 | R19: 1442.7165 | S19: 1492.1355 | T19: 1545.1508 | U19: 1600.1188 | V19: 1656.8794 | W19: 1715.2121 | X19: 1775.0654 | Y19: 1843.0745 | Z19: 1913.3621 | AA19: 1985.9039 | AB19: 2060.796 | AC19: 2138.1848 | AD19: 2218.1387 | AE19: 2300.5032 | AF19: 2385.4632 | AG19: 2473.2636 | AH19: 2564.2544
B20: of which:
B21: Net zero spending | C21: 0 | D21: 0 | E21: 0 | F21: 0 | G21: 0 | H21: 0 | I21: 0 | J21: 0 | K21: 0 | L21: 0 | M21: 0 | N21: 0 | O21: 0 | P21: 0 | Q21: 0 | R21: 0 | S21: 0 | T21: 0 | U21: 0 | V21: 0 | W21: 0 | X21: 0 | Y21: 0 | Z21: 0 | AA21: 0 | AB21: 0 | AC21: 0 | AD21: 0 | AE21: 0 | AF21: 0 | AG21: 0 | AH21: 0
B22: Non net zero spending | C22: 830.44 | D22: 1097.8293 | E22: 1008.1873 | F22: 946.52595 | G22: 980.03974 | H22: 1014.0874 | I22: 1053.1779 | J22: 1091.1773 | K22: 1130.9334 | L22: 1172.011 | M22: 1214.2577 | N22: 1257.5979 | O22: 1302.0041 | P22: 1347.5296 | Q22: 1394.4701 | R22: 1442.7165 | S22: 1492.1355 | T22: 1545.1508 | U22: 1600.1188 | V22: 1656.8794 | W22: 1715.2121 | X22: 1775.0654 | Y22: 1843.0745 | Z22: 1913.3621 | AA22: 1985.9039 | AB22: 2060.796 | AC22: 2138.1848 | AD22: 2218.1387 | AE22: 2300.5032 | AF22: 2385.4632 | AG22: 2473.2636 | AH22: 2564.2544
B23: Primary deficit | C23: 29.597 | D23: 335.03995 | E23: 214.00482 | F23: 87.546783 | G23: 63.77559 | H23: 50.711521 | I23: 48.660108 | J23: 45.47213 | K23: 42.540389 | L23: 39.34507 | M23: 35.863449 | N23: 32.067575 | O23: 27.932484 | P23: 23.435499 | Q23: 18.559605 | R23: 13.293981 | S23: 7.6052591 | T23: 1.461525 | U23: -5.0046283 | V23: -11.950411 | W23: -19.408206 | X23: -27.427936 | Y23: -29.559386 | Z23: -31.642636 | AA23: -33.699562 | AB23: -35.750129 | AC23: -37.803731 | AD23: -39.864416 | AE23: -41.939524 | AF23: -44.062393 | AG23: -46.232801 | AH23: -48.450289
B24: Net interest spending | C24: 27.48 | D24: 19.58995 | E24: 19.929521 | F24: 19.37354 | G24: 21.565237 | H24: 23.727747 | I24: 25.018281 | J24: 30.308564 | K24: 36.333824 | L24: 42.737543 | M24: 49.533021 | N24: 56.744776 | O24: 64.397583 | P24: 72.519623 | Q24: 81.150571 | R24: 90.294134 | S24: 99.97643 | T24: 110.40733 | U24: 121.32553 | V24: 132.88802 | W24: 145.11355 | X24: 158.05194 | Y24: 165.26637 | Z24: 172.59423 | AA24: 180.05721 | AB24: 187.6837 | AC24: 195.49437 | AD24: 203.49853 | AE24: 211.69285 | AF24: 220.12649 | AG24: 228.81694 | AH24: 237.7891
B25: Public sector net borrowing | C25: 57.077 | D25: 354.6299 | E25: 233.93434 | F25: 106.92032 | G25: 85.340827 | H25: 74.439269 | I25: 73.678388 | J25: 75.780694 | K25: 78.874213 | L25: 82.082612 | M25: 85.39647 | N25: 88.812351 | O25: 92.330067 | P25: 95.955122 | Q25: 99.710176 | R25: 103.58812 | S25: 107.58169 | T25: 111.86886 | U25: 116.3209 | V25: 120.93761 | W25: 125.70535 | X25: 130.624 | Y25: 135.70699 | Z25: 140.95159 | AA25: 146.35765 | AB25: 151.93357 | AC25: 157.69064 | AD25: 163.63412 | AE25: 169.75333 | AF25: 176.0641 | AG25: 182.58414 | AH25: 189.33881
B26: Public sector net debt | C26: 1798.2 | D26: 2197.9306 | E26: 2502.8927 | F26: 2630.6361 | G26: 2747.1762 | H26: 2761.1165 | I26: 2804.2591 | J26: 2897.9836 | K26: 2995.5341 | L26: 3097.0528 | M26: 3202.67 | N26: 3312.5119 | O26: 3426.7045 | P26: 3545.3804 | Q26: 3668.7006 | R26: 3796.817 | S26: 3929.8725 | T26: 4068.2304 | U26: 4212.0945 | V26: 4361.6685 | W26: 4517.1392 | X26: 4678.6931 | Y26: 4846.5337 | Z26: 5020.8607 | AA26: 5201.8738 | AB26: 5389.7832 | AC26: 5584.8128 | AD26: 5787.1933 | AE26: 5997.1419 | AF26: 6214.8955 | AG26: 6440.7131 | AH26: 6674.8848
B27: £ billion, 2019 prices | C27: 2019-20 | D27: 2020-21 | E27: 2021-22 | F27: 2022-23 | G27: 2023-24 | H27: 2024-25 | I27: 2025-26 | J27: 2026-27 | K27: 2027-28 | L27: 2028-29 | M27: 2029-30 | N27: 2030-31 | O27: 2031-32 | P27: 2032-33 | Q27: 2033-34 | R27: 2034-35 | S27: 2035-36 | T27: 2036-37 | U27: 2037-38 | V27: 2038-39 | W27: 2039-40 | X27: 2040-41 | Y27: 2041-42 | Z27: 2042-43 | AA27: 2043-44 | AB27: 2044-45 | AC27: 2045-46 | AD27: 2046-47 | AE27: 2047-48 | AF27: 2048-49 | AG27: 2049-50 | AH27: 2050-51
B28: Primary receipts | C28: 795.77684 | D28: 707.96672 | E28: 749.18939 | F28: 811.45123 | G28: 848.38425 | H28: 873.76616 | I28: 892.00139 | J28: 907.67265 | K28: 923.4855 | L28: 939.4433 | M28: 955.3966 | N28: 971.27343 | O28: 987.04206 | P28: 1002.7324 | Q28: 1018.5462 | R28: 1034.3691 | S28: 1050.0944 | T28: 1067.391 | U28: 1084.9169 | V28: 1102.6164 | W28: 1120.3177 | X28: 1137.9804 | Y28: 1155.6821 | Z28: 1173.358 | AA28: 1190.9687 | AB28: 1208.5455 | AC28: 1226.1385 | AD28: 1243.7465 | AE28: 1261.2485 | AF28: 1278.7261 | AG28: 1296.2661 | AH28: 1313.9992
B29: of which:
B30: Fuel duty | C30: 27.397579 | D30: 19.990019 | E30: 24.556972 | F30: 27.608155 | G30: 27.912128 | H30: 27.748098 | I30: 27.694208 | J30: 28.180758 | K30: 28.671704 | L30: 29.16715 | M30: 29.662457 | N30: 30.155389 | O30: 30.644962 | P30: 31.132103 | Q30: 31.623079 | R30: 32.114337 | S30: 32.602564 | T30: 33.139577 | U30: 33.683707 | V30: 34.233229 | W30: 34.782805 | X30: 35.331186 | Y30: 35.880774 | Z30: 36.429562 | AA30: 36.976326 | AB30: 37.52204 | AC30: 38.068255 | AD30: 38.614933 | AE30: 39.158323 | AF30: 39.700956 | AG30: 40.245524 | AH30: 40.796089
B31: VED | C31: 6.7281664 | D31: 6.4393576 | E31: 6.6109734 | F31: 6.6740884 | G31: 6.6480817 | H31: 6.6173529 | I31: 6.6270663 | J31: 6.743495 | K31: 6.8609755 | L31: 6.979533 | M31: 7.098057 | N31: 7.2160128 | O31: 7.3331648 | P31: 7.4497349 | Q31: 7.5672226 | R31: 7.6847779 | S31: 7.8016078 | T31: 7.930112 | U31: 8.0603193 | V31: 8.1918166 | W31: 8.3233272 | X31: 8.4545515 | Y31: 8.5860648 | Z31: 8.7173867 | AA31: 8.8482242 | AB31: 8.9788104 | AC31: 9.1095166 | AD31: 9.2403335 | AE31: 9.3703636 | AF31: 9.5002125 | AG31: 9.6305246 | AH31: 9.7622718
B32: APD | C32: 3.6318783 | D32: 0.56129646 | E32: 1.2718345 | F32: 1.9101928 | G32: 2.8661874 | H32: 3.8752569 | I32: 3.9292877 | J32: 3.99832 | K32: 4.067976 | L32: 4.1382705 | M32: 4.2085452 | N32: 4.278483 | O32: 4.3479442 | P32: 4.4170604 | Q32: 4.4867206 | R32: 4.5564209 | S32: 4.6256911 | T32: 4.7018832 | U32: 4.7790851 | V32: 4.8570518 | W32: 4.9350264 | X32: 5.0128313 | Y32: 5.0908075 | Z32: 5.1686703 | AA32: 5.2462458 | AB32: 5.3236723 | AC32: 5.40117 | AD32: 5.4787333 | AE32: 5.5558302 | AF32: 5.6328195 | AG32: 5.7100835 | AH32: 5.7881984
B33: Landfill | C33: 0.72736934 | D33: 0.66711097 | E33: 0.69931282 | F33: 0.67470124 | G33: 0.57884694 | H33: 0.5536482 | I33: 0.55501104 | J33: 0.56476184 | K33: 0.57460073 | L33: 0.58452981 | M33: 0.59445609 | N33: 0.60433479 | O33: 0.61414617 | P33: 0.62390882 | Q33: 0.63374831 | R33: 0.64359346 | S33: 0.65337787 | T33: 0.66413998 | U33: 0.67504473 | V33: 0.68605751 | W33: 0.69707141 | X33: 0.70806133 | Y33: 0.71907545 | Z33: 0.73007355 | AA33: 0.74103107 | AB33: 0.75196756 | AC33: 0.76291408 | AD33: 0.77386989 | AE33: 0.7847598 | AF33: 0.79563453 | AG33: 0.80654805 | AH33: 0.81758177
B34: Plastics | C34: 0 | D34: 0 | E34: 0 | F34: 0.28484685 | G34: 0.2258095 | H34: 0.2040652 | I34: 0.18879387 | J34: 0.19211072 | K34: 0.19545754 | L34: 0.19883504 | M34: 0.20221159 | N34: 0.20557195 | O34: 0.20890941 | P34: 0.2122303 | Q34: 0.21557732 | R34: 0.21892627 | S34: 0.22225456 | T34: 0.22591542 | U34: 0.22962481 | V34: 0.23337094 | W34: 0.23711746 | X34: 0.24085581 | Y34: 0.2446024 | Z34: 0.24834354 | AA34: 0.25207088 | AB34: 0.25579106 | AC34: 0.25951466 | AD34: 0.26324141 | AE34: 0.26694575 | AF34: 0.27064492 | AG34: 0.27435729 | AH34: 0.27811055
B35: Carbon tax | C35: 1.5712679 | D35: 1.5977464 | E35: 1.6370998 | F35: 1.5974776 | G35: 1.5700829 | H35: 1.5396701 | I35: 1.4483739 | J35: 1.4738198 | K35: 1.4994957 | L35: 1.525407 | M35: 1.5513109 | N35: 1.5770906 | O35: 1.6026947 | P35: 1.6281716 | Q35: 1.6538491 | R35: 1.6795413 | S35: 1.705075 | T35: 1.7331601 | U35: 1.7616175 | V35: 1.7903568 | W35: 1.819099 | X35: 1.8477786 | Y35: 1.8765214 | Z35: 1.9052224 | AA35: 1.9338175 | AB35: 1.9623576 | AC35: 1.990924 | AD35: 2.0195146 | AE35: 2.0479333 | AF35: 2.0763123 | AG35: 2.1047926 | AH35: 2.1335865
B36: Road tax | C36: 0 | D36: 0 | E36: 0 | F36: 0 | G36: 0 | H36: 0 | I36: 0 | J36: 0 | K36: 0 | L36: 0 | M36: 0 | N36: 0 | O36: 0 | P36: 0 | Q36: 0 | R36: 0 | S36: 0 | T36: 0 | U36: 0 | V36: 0 | W36: 0 | X36: 0 | Y36: 0 | Z36: 0 | AA36: 0 | AB36: 0 | AC36: 0 | AD36: 0 | AE36: 0 | AF36: 0 | AG36: 0 | AH36: 0
B37: Non net zero related receipts | C37: 755.72058 | D37: 678.71119 | E37: 714.41319 | F37: 772.70176 | G37: 808.58312 | H37: 833.22807 | I37: 851.55865 | J37: 866.51939 | K37: 881.61529 | L37: 896.84958 | M37: 912.07957 | N37: 927.23655 | O37: 942.29023 | P37: 957.26916 | Q37: 972.36598 | R37: 987.47149 | S37: 1002.4838 | T37: 1018.9962 | U37: 1035.7275 | V37: 1052.6245 | W37: 1069.5232 | X37: 1086.3851 | Y37: 1103.2842 | Z37: 1120.1587 | AA37: 1136.9709 | AB37: 1153.7509 | AC37: 1170.5462 | AD37: 1187.3558 | AE37: 1204.0643 | AF37: 1220.7495 | AG37: 1237.4942 | AH37: 1254.4234
B38: Primary spending | C38: 825.18661 | D38: 1018.9269 | E38: 951.07011 | F38: 894.15398 | G38: 907.43514 | H38: 919.76068 | I38: 935.21106 | J38: 947.14249 | K38: 959.5804 | L38: 972.07646 | M38: 984.47331 | N38: 996.68804 | O38: 1008.6818 | P38: 1020.48 | Q38: 1032.2853 | R38: 1043.989 | S38: 1055.474 | T38: 1068.4016 | U38: 1081.5342 | V38: 1094.7206 | W38: 1107.7827 | X38: 1120.6641 | Y38: 1137.4397 | Z38: 1154.269 | AA38: 1171.0959 | AB38: 1187.9375 | AC38: 1204.8367 | AD38: 1221.7885 | AE38: 1238.6669 | AF38: 1255.5349 | AG38: 1272.4796 | AH38: 1289.6323
B39: of which:
B40: Net zero spending | C40: 0 | D40: 0 | E40: 0 | F40: 0 | G40: 0 | H40: 0 | I40: 0 | J40: 0 | K40: 0 | L40: 0 | M40: 0 | N40: 0 | O40: 0 | P40: 0 | Q40: 0 | R40: 0 | S40: 0 | T40: 0 | U40: 0 | V40: 0 | W40: 0 | X40: 0 | Y40: 0 | Z40: 0 | AA40: 0 | AB40: 0 | AC40: 0 | AD40: 0 | AE40: 0 | AF40: 0 | AG40: 0 | AH40: 0
B41: Non net zero spending | C41: 825.18661 | D41: 1018.9269 | E41: 951.07011 | F41: 894.15398 | G41: 907.43514 | H41: 919.76068 | I41: 935.21106 | J41: 947.14249 | K41: 959.5804 | L41: 972.07646 | M41: 984.47331 | N41: 996.68804 | O41: 1008.6818 | P41: 1020.48 | Q41: 1032.2853 | R41: 1043.989 | S41: 1055.474 | T41: 1068.4016 | U41: 1081.5342 | V41: 1094.7206 | W41: 1107.7827 | X41: 1120.6641 | Y41: 1137.4397 | Z41: 1154.269 | AA41: 1171.0959 | AB41: 1187.9375 | AC41: 1204.8367 | AD41: 1221.7885 | AE41: 1238.6669 | AF41: 1255.5349 | AG41: 1272.4796 | AH41: 1289.6323
...

Sheet 1.2
A1: Back to contents
B2: Table 1.2: Early action scenario
B4: £ billion, unless otherwise stated | C4: 2019-20 | D4: 2020-21 | E4: 2021-22 | F4: 2022-23 | G4: 2023-24 | H4: 2024-25 | I4: 2025-26 | J4: 2026-27 | K4: 2027-28 | L4: 2028-29 | M4: 2029-30 | N4: 2030-31 | O4: 2031-32 | P4: 2032-33 | Q4: 2033-34 | R4: 2034-35 | S4: 2035-36 | T4: 2036-37 | U4: 2037-38 | V4: 2038-39 | W4: 2039-40 | X4: 2040-41 | Y4: 2041-42 | Z4: 2042-43 | AA4: 2043-44 | AB4: 2044-45 | AC4: 2045-46 | AD4: 2046-47 | AE4: 2047-48 | AF4: 2048-49 | AG4: 2049-50 | AH4: 2050-51
B5: Nominal GDP | C5: 2220.063 | D5: 2101.287 | E5: 2263.2272 | F5: 2366.7538 | G5: 2443.8619 | H5: 2532.2696 | I5: 2628.5011 | J5: 2730.7422 | K5: 2837.6563 | L5: 2950.869 | M5: 3067.8857 | N5: 3187.1911 | O5: 3308.5676 | P5: 3433.7061 | Q5: 3562.4279 | R5: 3696.4017 | S5: 3836.4069 | T5: 3988.9659 | U5: 4149.6258 | V5: 4318.4061 | W5: 4495.7201 | X5: 4677.9078 | Y5: 4859.0626 | Z5: 5047.3419 | AA5: 5239.0111 | AB5: 5437.0948 | AC5: 5644.1498 | AD5: 5861.1183 | AE5: 6085.0041 | AF5: 6314.8647 | AG5: 6552.258 | AH5: 6797.8881
B6: Nominal GDP (Percentage change on a year earlier) | C6: 2.6511924 | D6: -5.3501174 | E6: 7.7067115 | F6: 4.5742939 | G6: 3.2579676 | H6: 3.6175393 | I6: 3.800208 | J6: 3.8897123 | K6: 3.915202 | L6: 3.9896583 | M6: 3.965498 | N6: 3.8888492 | O6: 3.8082575 | P6: 3.7822551 | Q6: 3.7487734 | R6: 3.7607433 | S6: 3.7876069 | T6: 3.9766129 | U6: 4.0276082 | V6: 4.0673607 | W6: 4.1060055 | X6: 4.0524696 | Y6: 3.8725615 | Z6: 3.8748062 | AA6: 3.7974283 | AB6: 3.7809379 | AC6: 3.808191 | AD6: 3.844131 | AE6: 3.8198488 | AF6: 3.7774922 | AG6: 3.7592773 | AH6: 3.7487859
B7: Real GDP | C7: 2206.0188 | D7: 1950.265 | E7: 2135.0078 | F7: 2235.7996 | G7: 2262.8125 | H7: 2296.7271 | I7: 2334.0816 | J7: 2370.2857 | K7: 2407.7098 | L7: 2447.4772 | M7: 2487.3234 | N7: 2525.9547 | O7: 2563.1961 | P7: 2600.335 | Q7: 2637.161 | R7: 2674.817 | S7: 2713.7132 | T7: 2758.1887 | U7: 2804.7681 | V7: 2853.224 | W7: 2903.5948 | X7: 2953.3354 | Y7: 2998.7342 | Z7: 3044.8968 | AA7: 3089.4668 | AB7: 3134.1912 | AC7: 3180.398 | AD7: 3228.4034 | AE7: 3276.3671 | AF7: 3323.6868 | AG7: 3371.0982 | AH7: 3418.8401
B8: Real GDP (Percentage change on a year earlier) | C8: 0.44000534 | D8: -11.593456 | E8: 9.4727026 | F8: 4.7209107 | G8: 1.2081969 | H8: 1.4987848 | I8: 1.6264202 | J8: 1.551106 | K8: 1.5788876 | L8: 1.6516698 | M8: 1.6280528 | N8: 1.5531272 | O8: 1.4743475 | P8: 1.4489297 | Q8: 1.4162008 | R8: 1.4279015 | S8: 1.4541612 | T8: 1.6389177 | U8: 1.6887666 | V8: 1.7276253 | W8: 1.7654013 | X8: 1.713069 | Y8: 1.5372057 | Z8: 1.5394 | AA8: 1.4637618 | AB8: 1.4476422 | AC8: 1.4742825 | AD8: 1.5094144 | AE8: 1.4856782 | AF8: 1.4442739 | AG8: 1.4264686 | AH8: 1.416213
B9: Primary receipts | C9: 800.843 | D9: 762.78931 | E9: 793.30351 | F9: 855.56568 | G9: 909.73993 | H9: 954.33428 | I9: 993.2776 | J9: 1079.3514 | K9: 1117.8136 | L9: 1157.8391 | M9: 1198.6729 | N9: 1238.6587 | O9: 1279.8854 | P9: 1321.6283 | Q9: 1364.8635 | R9: 1410.0948 | S9: 1456.7042 | T9: 1508.599 | U9: 1563.8765 | V9: 1622.6283 | W9: 1684.6146 | X9: 1747.7488 | Y9: 1810.6268 | Z9: 1876.5851 | AA9: 1944.1541 | AB9: 2014.0147 | AC9: 2087.5214 | AD9: 2164.8713 | AE9: 2244.8519 | AF9: 2327.6542 | AG9: 2413.6899 | AH9: 2503.034
B10: of which:
B11: Fuel duty | C11: 27.572 | D11: 21.53798 | E11: 25.741264 | F11: 28.690303 | G11: 29.312457 | H11: 29.324392 | I11: 29.404397 | J11: 29.466943 | K11: 29.110656 | L11: 28.146641 | M11: 26.952919 | N11: 25.374489 | O11: 23.733404 | P11: 22.042485 | Q11: 20.281179 | R11: 18.419344 | S11: 16.488888 | T11: 14.690465 | U11: 13.00753 | V11: 11.456594 | W11: 10.024355 | X11: 8.7037562 | Y11: 7.5226628 | Z11: 6.4571278 | AA11: 5.5384108 | AB11: 4.7731046 | AC11: 4.0519843 | AD11: 3.3659406 | AE11: 2.7370113 | AF11: 2.1435173 | AG11: 1.5715927 | AH11: 1.1343948
B12: VED | C12: 6.771 | D12: 6.938 | E12: 6.9436784 | F12: 6.9580918 | G12: 7.0084572 | H12: 7.0182793 | I12: 6.9947822 | J12: 7.0574367 | K12: 7.0159421 | L12: 6.8628717 | M12: 6.5908985 | N12: 6.1756802 | O12: 5.678157 | P12: 5.1788748 | Q12: 4.6791879 | R12: 4.1908502 | S12: 3.5551394 | T12: 3.090992 | U12: 2.6574991 | V12: 2.2576002 | W12: 1.8964474 | X12: 1.5770299 | Y12: 1.3009469 | Z12: 1.0669301 | AA12: 0.87233746 | AB12: 0.71352469 | AC12: 0.5862047 | AD12: 0.4755437 | AE12: 0.38277606 | AF12: 0.30367455 | AG12: 0.23466392 | AH12: 0.17288305
B13: APD | C13: 3.655 | D13: 0.60476139 | E13: 1.3482154 | F13: 2.0220758 | G13: 3.0955134 | H13: 3.8931504 | I13: 3.9716806 | J13: 4.1322016 | K13: 4.2984678 | L13: 4.4708043 | M13: 4.6486879 | N13: 4.3909919 | O13: 4.3376288 | P13: 4.2059603 | Q13: 4.0580569 | R13: 4.133644 | S13: 4.238982 | T13: 4.423284 | U13: 4.5945604 | V13: 4.7633658 | W13: 5.011444 | X13: 5.121703 | Y13: 5.2963754 | Z13: 5.4286256 | AA13: 5.6608055 | AB13: 5.7881927 | AC13: 6.0081491 | AD13: 6.2091044 | AE13: 6.424824 | AF13: 6.6121949 | AG13: 6.820632 | AH13: 7.0541316
B14: Landfill | C14: 0.732 | D14: 0.71876983 | E14: 0.71684729 | F14: 0.66708104 | G14: 0.56327001 | H14: 0.52985147 | I14: 0.5218915 | J14: 0.5218188 | K14: 0.52077263 | L14: 0.51869941 | M14: 0.51544463 | N14: 0.51089887 | O14: 0.5049744 | P14: 0.49761318 | Q14: 0.48883508 | R14: 0.47849674 | S14: 0.46646226 | T14: 0.45335454 | U14: 0.43843887 | V14: 0.42157434 | W14: 0.40257736 | X14: 0.3813192 | Y14: 0.35770693 | Z14: 0.33159451 | AA14: 0.30284419 | AB14: 0.27133377 | AC14: 0.23693583 | AD14: 0.19950279 | AE14: 0.15886622 | AF14: 0.11488707 | AG14: 0.067409063 | AH14: 0.016256476
B15: Plastics | C15: 0 | D15: 0 | E15: 0 | F15: 0.28162974 | G15: 0.21973291 | H15: 0.19529414 | I15: 0.17752784 | J15: 0.17750312 | K15: 0.17714725 | L15: 0.17644202 | M15: 0.17533486 | N15: 0.17378857 | O15: 0.17177328 | P15: 0.16926928 | Q15: 0.1662833 | R15: 0.16276658 | S15: 0.1586729 | T15: 0.15421415 | U15: 0.1491404 | V15: 0.14340372 | W15: 0.13694167 | X15: 0.12971044 | Y15: 0.12167843 | Z15: 0.11279597 | AA15: 0.1030162 | AB15: 0.092297538 | AC15: 0.08059665 | AD15: 0.067863341 | AE15: 0.054040309 | AF15: 0.039080258 | AG15: 0.022930026 | AH15: 0.0055298414
B16: Carbon tax | C16: 1.5812711 | D16: 1.7214706 | E16: 1.7354169 | F16: 1.6910443 | G16: 1.6957065 | H16: 1.697572 | I16: 1.6310708 | J16: 50.444614 | K16: 50.475107 | L16: 50.505586 | M16: 50.313454 | N16: 49.410795 | O16: 48.942635 | P16: 47.761903 | Q16: 46.866539 | R16: 45.935775 | S16: 44.390426 | T16: 43.209261 | U16: 42.350515 | V16: 41.869 | W16: 41.301824 | X16: 40.107597 | Y16: 38.786544 | Z16: 37.857464 | AA16: 37.030467 | AB16: 36.094661 | AC16: 35.396184 | AD16: 34.927097 | AE16: 34.50162 | AF16: 34.720899 | AG16: 35.401301 | AH16: 36.249327
B17: Road tax | C17: 0 | D17: 0 | E17: 0 | F17: 0 | G17: 0 | H17: 0 | I17: 0 | J17: 0 | K17: 0 | L17: 0 | M17: 0 | N17: 0 | O17: 0 | P17: 0 | Q17: 0 | R17: 0 | S17: 0 | T17: 0 | U17: 0 | V17: 0 | W17: 0 | X17: 0 | Y17: 0 | Z17: 0 | AA17: 0 | AB17: 0 | AC17: 0 | AD17: 0 | AE17: 0 | AF17: 0 | AG17: 0 | AH17: 0
B18: Non net zero related receipts | C18: 760.53173 | D18: 731.26833 | E18: 756.81809 | F18: 815.25546 | G18: 867.84479 | H18: 911.67575 | I18: 950.57625 | J18: 987.55093 | K18: 1026.2155 | L18: 1067.158 | M18: 1109.4762 | N18: 1152.622 | O18: 1196.5168 | P18: 1241.7722 | Q18: 1288.3234 | R18: 1336.7739 | S18: 1387.4057 | T18: 1442.5774 | U18: 1500.6788 | V18: 1561.7168 | W18: 1625.841 | X18: 1691.7277 | Y18: 1757.2409 | Z18: 1825.3306 | AA18: 1894.6462 | AB18: 1966.2816 | AC18: 2041.1613 | AD18: 2119.6262 | AE18: 2200.5928 | AF18: 2283.72 | AG18: 2369.5713 | AH18: 2458.4015
B19: Primary spending | C19: 830.44 | D19: 1097.8293 | E19: 1007.8547 | F19: 944.96108 | G19: 976.99075 | H19: 1010.2213 | I19: 1048.5668 | J19: 1095.7919 | K19: 1136.5492 | L19: 1178.3352 | M19: 1220.5279 | N19: 1264.129 | O19: 1305.8941 | P19: 1350.9228 | Q19: 1396.9679 | R19: 1445.2111 | S19: 1495.5069 | T19: 1547.2336 | U19: 1601.5878 | V19: 1658.1996 | W19: 1718.4039 | X19: 1779.1981 | Y19: 1845.8191 | Z19: 1915.2787 | AA19: 1986.3806 | AB19: 2059.5954 | AC19: 2136.2314 | AD19: 2216.5584 | AE19: 2299.0959 | AF19: 2384.3572 | AG19: 2469.9583 | AH19: 2560.8724
B20: of which:
B21: Net zero spending | C21: 0 | D21: 0 | E21: 0 | F21: 0 | G21: 0 | H21: 0 | I21: 0 | J21: 10.542416 | K21: 12.676675 | L21: 14.086725 | M21: 14.731637 | N21: 15.970831 | O21: 14.600558 | P21: 15.409184 | Q21: 16.030283 | R21: 17.388478 | S21: 19.270623 | T21: 18.594655 | U21: 18.192024 | V21: 17.849939 | W21: 18.969793 | X21: 19.274462 | Y21: 18.619807 | Z21: 18.295658 | AA21: 17.827043 | AB21: 17.075479 | AC21: 16.80744 | AD21: 17.084598 | AE21: 17.063473 | AF21: 17.361637 | AG21: 15.158086 | AH21: 15.152412
B22: Non net zero spending | C22: 830.44 | D22: 1097.8293 | E22: 1007.8547 | F22: 944.96108 | G22: 976.99075 | H22: 1010.2213 | I22: 1048.5668 | J22: 1085.2495 | K22: 1123.8726 | L22: 1164.2484 | M22: 1205.7963 | N22: 1248.1582 | O22: 1291.2936 | P22: 1335.5137 | Q22: 1380.9376 | R22: 1427.8227 | S22: 1476.2362 | T22: 1528.639 | U22: 1583.3958 | V22: 1640.3497 | W22: 1699.4341 | X22: 1759.9237 | Y22: 1827.1993 | Z22: 1896.9831 | AA22: 1968.5536 | AB22: 2042.5199 | AC22: 2119.424 | AD22: 2199.4738 | AE22: 2282.0324 | AF22: 2366.9955 | AG22: 2454.8002 | AH22: 2545.72
B23: Primary deficit | C23: 29.597 | D23: 335.03995 | E23: 214.55117 | F23: 89.395397 | G23: 67.250819 | H23: 55.887059 | I23: 55.289176 | J23: 16.440455 | K23: 18.735589 | L23: 20.496084 | M23: 21.854993 | N23: 25.470353 | O23: 26.008701 | P23: 29.294582 | Q23: 32.104401 | R23: 35.11634 | S23: 38.802629 | T23: 38.634637 | U23: 37.711355 | V23: 35.571271 | W23: 33.789376 | X23: 31.449321 | Y23: 35.192296 | Z23: 38.693626 | AA23: 42.226546 | AB23: 45.580712 | AC23: 48.710061 | AD23: 51.687095 | AE23: 54.243986 | AF23: 56.702945 | AG23: 56.268411 | AH23: 57.838415
B24: Net interest spending | C24: 27.48 | D24: 19.58995 | E24: 19.929521 | F24: 19.377769 | G24: 21.584905 | H24: 23.778655 | I24: 25.119043 | J24: 30.501491 | K24: 36.193635 | L24: 42.2331 | M24: 48.653934 | N24: 55.5022 | O24: 62.875717 | P24: 70.782478 | Q24: 79.356925 | R24: 88.643545 | S24: 98.728495 | T24: 109.90221 | U24: 121.86619 | V24: 134.80672 | W24: 148.76301 | X24: 163.86007 | Y24: 173.39637 | Z24: 183.36661 | AA24: 193.79361 | AB24: 204.71704 | AC24: 216.16285 | AD24: 228.14372 | AE24: 240.66063 | AF24: 253.764 | AG24: 267.48212 | AH24: 281.74972
B25: Public sector net borrowing | C25: 57.077 | D25: 354.6299 | E25: 234.48069 | F25: 108.77317 | G25: 88.835724 | H25: 79.665714 | I25: 80.408219 | J25: 46.941946 | K25: 54.929224 | L25: 62.729184 | M25: 70.508927 | N25: 80.972553 | O25: 88.884418 | P25: 100.07706 | Q25: 111.46133 | R25: 123.75988 | S25: 137.53112 | T25: 148.53684 | U25: 159.57754 | V25: 170.378 | W25: 182.55239 | X25: 195.30939 | Y25: 208.58867 | Z25: 222.06024 | AA25: 236.02015 | AB25: 250.29775 | AC25: 264.87291 | AD25: 279.83082 | AE25: 294.90461 | AF25: 310.46694 | AG25: 323.75054 | AH25: 339.58813
B26: Public sector net debt | C26: 1798.2 | D26: 2197.9306 | E26: 2503.4391 | F26: 2633.0353 | G26: 2753.0703 | H26: 2772.2371 | I26: 2822.1094 | J26: 2886.8021 | K26: 2960.1771 | L26: 3042.0879 | M26: 3132.5391 | N26: 3234.2295 | O26: 3344.6207 | P26: 3467.018 | Q26: 3601.6363 | R26: 3749.424 | S26: 3911.8931 | T26: 4086.3595 | U26: 4272.911 | V26: 4471.3601 | W26: 4683.1362 | X26: 4908.8535 | Y26: 5149.0277 | Z26: 5403.8974 | AA26: 5673.9729 | AB26: 5959.6136 | AC26: 6261.1753 | AD26: 6579.1054 | AE26: 6913.5646 | AF26: 7265.0802 | AG26: 7631.4226 | AH26: 8015.1993
B27: £ billion, 2019 prices | C27: 2019-20 | D27: 2020-21 | E27: 2021-22 | F27: 2022-23 | G27: 2023-24 | H27: 2024-25 | I27: 2025-26 | J27: 2026-27 | K27: 2027-28 | L27: 2028-29 | M27: 2029-30 | N27: 2030-31 | O27: 2031-32 | P27: 2032-33 | Q27: 2033-34 | R27: 2034-35 | S27: 2035-36 | T27: 2036-37 | U27: 2037-38 | V27: 2038-39 | W27: 2039-40 | X27: 2040-41 | Y27: 2041-42 | Z27: 2042-43 | AA27: 2043-44 | AB27: 2044-45 | AC27: 2045-46 | AD27: 2046-47 | AE27: 2047-48 | AF27: 2048-49 | AG27: 2049-50 | AH27: 2050-51
B28: Primary receipts | C28: 795.77684 | D28: 707.96672 | E28: 748.36022 | F28: 808.22661 | G28: 842.34336 | H28: 865.56562 | I28: 882.02017 | J28: 936.87763 | K28: 948.44851 | L28: 960.32211 | M28: 971.83778 | N28: 981.67809 | O28: 991.5461 | P28: 1000.865 | Q28: 1010.3684 | R28: 1020.383 | S28: 1030.4114 | T28: 1043.1277 | U28: 1057.0377 | V28: 1072.0905 | W28: 1088.0211 | X28: 1103.4182 | Y28: 1117.4148 | Z28: 1132.0826 | AA28: 1146.4758 | AB28: 1160.9706 | AC28: 1176.2886 | AD28: 1192.4479 | AE28: 1208.7024 | AF28: 1225.1084 | AG28: 1241.8292 | AH28: 1258.8429
B29: of which:
B30: Fuel duty | C30: 27.397579 | D30: 19.990019 | E30: 24.282936 | F30: 27.102847 | G30: 27.140892 | H30: 26.596745 | I30: 26.110798 | J30: 25.577322 | K30: 24.699966 | L30: 23.345076 | M30: 21.852388 | N30: 20.110124 | O30: 18.386618 | P30: 16.692706 | Q30: 15.013562 | R30: 13.328739 | S30: 11.663548 | T30: 10.157789 | U30: 8.7919023 | V30: 7.5695125 | W30: 6.4743052 | X30: 5.4950018 | Y30: 4.6425552 | Z30: 3.8953746 | AA30: 3.2660241 | AB30: 2.7514368 | AC30: 2.2832355 | AD30: 1.8540172 | AE30: 1.4736973 | AF30: 1.1281921 | AG30: 0.80857518 | AH30: 0.57051755
B31: VED | C31: 6.7281664 | D31: 6.4393576 | E31: 6.5502958 | F31: 6.5730955 | G31: 6.4892473 | H31: 6.3654648 | I31: 6.2112938 | J31: 6.1258588 | K31: 5.9529242 | L31: 5.6921273 | M31: 5.3436464 | N31: 4.8944315 | O31: 4.398952 | P31: 3.9219459 | Q31: 3.4638657 | R31: 3.0326135 | S31: 2.5147564 | T31: 2.1372805 | U31: 1.7962267 | V31: 1.4916242 | W31: 1.2248349 | X31: 0.99563705 | Y31: 0.80286968 | Z31: 0.64364415 | AA31: 0.51442106 | AB31: 0.41130841 | AC31: 0.33031801 | AD31: 0.26193754 | AE31: 0.20609927 | AF31: 0.15983226 | AG31: 0.12073321 | AH31: 0.086947522
B32: APD | C32: 3.6318783 | D32: 0.56129646 | E32: 1.2718345 | F32: 1.9101928 | G32: 2.8661874 | H32: 3.5310238 | I32: 3.526811 | J32: 3.5867532 | K32: 3.647187 | L32: 3.7081251 | M32: 3.768977 | N32: 3.4800068 | O32: 3.360425 | P32: 3.1851608 | Q32: 3.0040606 | R32: 2.9912175 | S32: 2.998478 | T32: 3.0585 | U32: 3.1055032 | V32: 3.1472143 | W32: 3.236679 | X32: 3.2335197 | Y32: 3.2686186 | Z32: 3.2749128 | AA32: 3.3382007 | AB32: 3.3365801 | AC32: 3.3855065 | AD32: 3.4200801 | AE32: 3.4593373 | AF32: 3.4801799 | AG32: 3.509175 | AH32: 3.5477118
B33: Landfill | C33: 0.72736934 | D33: 0.66711097 | E33: 0.6762355 | F33: 0.63017096 | G33: 0.52154109 | H33: 0.48056663 | I33: 0.46343422 | J33: 0.45293899 | K33: 0.44186796 | L33: 0.43021394 | M33: 0.41790263 | N33: 0.40490431 | O33: 0.39121111 | P33: 0.37684093 | Q33: 0.36187028 | R33: 0.34625328 | S33: 0.32995582 | T33: 0.31347407 | U33: 0.29634464 | V33: 0.27853935 | W33: 0.26000764 | X33: 0.24074085 | Y33: 0.22075616 | Z33: 0.20004015 | AA33: 0.17858849 | AB33: 0.15640925 | AC33: 0.13350996 | AD33: 0.10988952 | AE33: 0.085538818 | AF33: 0.060468224 | AG33: 0.034681566 | AH33: 0.0081758177
B34: Plastics | C34: 0 | D34: 0 | E34: 0 | F34: 0.26604696 | G34: 0.20345436 | H34: 0.17712859 | I34: 0.15764288 | J34: 0.1540728 | K34: 0.15030685 | L34: 0.14634259 | M34: 0.14215475 | N34: 0.13773321 | O34: 0.1330753 | P34: 0.1281871 | Q34: 0.12309465 | R34: 0.11778234 | S34: 0.11223855 | T34: 0.10663208 | U34: 0.10080529 | V34: 0.094748603 | W34: 0.088444812 | X34: 0.081890977 | Y34: 0.075092938 | Z34: 0.068046131 | AA34: 0.060749082 | AB34: 0.053204541 | AC34: 0.045415065 | AD34: 0.03738028 | AE34: 0.029097087 | AF34: 0.020569014 | AG34: 0.011797364 | AH34: 0.0027811055
B35: Carbon tax | C35: 1.5712679 | D35: 1.5977464 | E35: 1.6370998 | F35: 1.5974776 | G35: 1.5700829 | H35: 1.5396701 | I35: 1.4483739 | J35: 43.785952 | K35: 42.82739 | L35: 41.889786 | M35: 40.792209 | N35: 39.159695 | O35: 37.916581 | P35: 36.169942 | Q35: 34.693925 | R35: 33.240379 | S35: 31.399924 | T35: 29.877241 | U35: 28.62508 | V35: 27.663363 | W35: 26.675095 | X35: 25.321403 | Y35: 23.936827 | Z35: 22.838174 | AA35: 21.837022 | AB35: 20.806621 | AC35: 19.945246 | AD35: 19.238438 | AE35: 18.576811 | AF35: 18.274564 | AG35: 18.213761 | AH35: 18.230758
B36: Road tax | C36: 0 | D36: 0 | E36: 0 | F36: 0 | G36: 0 | H36: 0 | I36: 0 | J36: 0 | K36: 0 | L36: 0 | M36: 0 | N36: 0 | O36: 0 | P36: 0 | Q36: 0 | R36: 0 | S36: 0 | T36: 0 | U36: 0 | V36: 0 | W36: 0 | X36: 0 | Y36: 0 | Z36: 0 | AA36: 0 | AB36: 0 | AC36: 0 | AD36: 0 | AE36: 0 | AF36: 0 | AG36: 0 | AH36: 0
B37: Non net zero related receipts | C37: 755.72058 | D37: 678.71119 | E37: 713.94182 | F37: 770.14678 | G37: 803.55196 | H37: 826.87502 | I37: 844.10182 | J37: 857.19473 | K37: 870.72887 | L37: 885.11044 | M37: 899.5205 | N37: 913.4912 | O37: 926.95923 | P37: 940.39022 | Q37: 953.70804 | R37: 967.32605 | S37: 981.39253 | T37: 997.47674 | U37: 1014.3218 | V37: 1031.8455 | W37: 1050.0617 | X37: 1068.05 | Y37: 1084.4681 | Z37: 1101.1624 | AA37: 1117.2808 | AB37: 1133.455 | AC37: 1150.1654 | AD37: 1167.5261 | AE37: 1184.8718 | AF37: 1201.9846 | AG37: 1219.1305 | AH37: 1236.396
B38: Primary spending | C38: 825.18661 | D38: 1018.9269 | E38: 950.75636 | F38: 892.67569 | G38: 904.61202 | H38: 916.25427 | I38: 931.11638 | J38: 951.14795 | K38: 964.34538 | L38: 977.32174 | M38: 989.55696 | N38: 1001.8642 | O38: 1011.6954 | P38: 1023.0497 | Q38: 1034.1344 | R38: 1045.7942 | S38: 1057.8588 | T38: 1069.8418 | U38: 1082.5271 | V38: 1095.5929 | W38: 1109.8442 | X38: 1123.2733 | Y38: 1139.1335 | Z38: 1155.4252 | AA38: 1171.377 | AB38: 1187.2454 | AC38: 1203.736 | AD38: 1220.918 | AE38: 1237.9091 | AF38: 1254.9527 | AG38: 1270.779 | AH38: 1287.9314
B39: of which:
B40: Net zero spending | C40: 0 | D40: 0 | E40: 0 | F40: 0 | G40: 0 | H40: 0 | I40: 0 | J40: 9.150823 | K40: 10.755973 | L40: 11.683656 | M40: 11.943843 | N40: 12.657413 | O40: 11.311268 | P40: 11.669327 | Q40: 11.866749 | R40: 12.582777 | S40: 13.63123 | T40: 12.857359 | U40: 12.296147 | V40: 11.793674 | W40: 12.251784 | X40: 12.168677 | Y40: 11.491075 | Z40: 11.037174 | AA40: 10.512682 | AB40: 9.8430906 | AC40: 9.4707533 | AD40: 9.4104866 | AE40: 9.1875374 | AF40: 9.1379069 | AG40: 7.7987461 | AH40: 7.6205543
B41: Non net zero spending | C41: 825.18661 | D41: 1018.9269 | E41: 950.75636 | F41: 892.67569 | G41: 904.61202 | H41: 916.25427 | I41: 931.11638 | J41: 941.99713 | K41: 953.58941 | L41: 965.63809 | M41: 977.61312 | N41: 989.20678 | O41: 1000.3842 | P41: 1011.3804 | Q41: 1022.2676 | R41: 1033.2114 | S41: 1044.2275 | T41: 1056.9844 | U41: 1070.2309 | V41: 1083.7992 | W41: 1097.5924 | X41: 1111.1046 | Y41: 1127.6424 | Z41: 1144.388 | AA41: 1160.8643 | AB41: 1177.4023 | AC41: 1194.2653 | AD41: 1211.5075 | AE41: 1228.7216 | AF41: 1245.8148 | AG41: 1262.9803 | AH41: 1280.3108
...

Sheet 1.3
A1: Back to contents
B2: Table 1.3: Late action scenario
B4: £ billion, unless otherwise stated | C4: 2019-20 | D4: 2020-21 | E4: 2021-22 | F4: 2022-23 | G4: 2023-24 | H4: 2024-25 | I4: 2025-26 | J4: 2026-27 | K4: 2027-28 | L4: 2028-29 | M4: 2029-30 | N4: 2030-31 | O4: 2031-32 | P4: 2032-33 | Q4: 2033-34 | R4: 2034-35 | S4: 2035-36 | T4: 2036-37 | U4: 2037-38 | V4: 2038-39 | W4: 2039-40 | X4: 2040-41 | Y4: 2041-42 | Z4: 2042-43 | AA4: 2043-44 | AB4: 2044-45 | AC4: 2045-46 | AD4: 2046-47 | AE4: 2047-48 | AF4: 2048-49 | AG4: 2049-50 | AH4: 2050-51
B5: Nominal GDP | C5: 2220.063 | D5: 2101.287 | E5: 2264.7214 | F5: 2374.6055 | G5: 2459.1637 | H5: 2551.7238 | I5: 2651.7286 | J5: 2760.4165 | K5: 2873.2666 | L5: 2989.4429 | M5: 3113.1192 | N5: 3224.9339 | O5: 3249.0038 | P5: 3240.4957 | Q5: 3323.1025 | R5: 3465.3036 | S5: 3642.2418 | T5: 3832.2792 | U5: 4009.5761 | V5: 4186.6697 | W5: 4361.2673 | X5: 4533.3227 | Y5: 4705.3456 | Z5: 4885.4489 | AA5: 5071.1647 | AB5: 5264.535 | AC5: 5465.5478 | AD5: 5674.0551 | AE5: 5888.994 | AF5: 6110.9792 | AG5: 6340.8636 | AH5: 6578.6986
B6: Nominal GDP (Percentage change on a year earlier) | C6: 2.6511924 | D6: -5.3501174 | E6: 7.7778245 | F6: 4.8519899 | G6: 3.5609359 | H6: 3.7638858 | I6: 3.9191084 | J6: 4.098757 | K6: 4.0881547 | L6: 4.043352 | M6: 4.1371009 | N6: 3.5917259 | O6: 0.74637049 | P6: -0.26186972 | Q6: 2.5492029 | R6: 4.279166 | S6: 5.1059964 | T6: 5.2175942 | U6: 4.6264081 | V6: 4.4167658 | W6: 4.1703214 | X6: 3.9450794 | Y6: 3.7946309 | Z6: 3.8276314 | AA6: 3.801407 | AB6: 3.8131336 | AC6: 3.8182442 | AD6: 3.81494 | AE6: 3.7881006 | AF6: 3.769492 | AG6: 3.761826 | AH6: 3.7508294
B7: Real GDP | C7: 2206.0188 | D7: 1950.265 | E7: 2136.4174 | F7: 2243.2168 | G7: 2276.9806 | H7: 2314.3718 | I7: 2354.7074 | J7: 2396.043 | K7: 2437.9247 | L7: 2479.4707 | M7: 2523.997 | N7: 2555.8671 | O7: 2517.0512 | P7: 2454.0174 | Q7: 2459.9954 | R7: 2507.5881 | S7: 2576.369 | T7: 2649.847 | U7: 2710.1073 | V7: 2766.1841 | W7: 2816.7575 | X7: 2862.0536 | Y7: 2903.8689 | Z7: 2947.232 | AA7: 2990.4871 | AB7: 3034.7198 | AC7: 3079.7584 | AD7: 3125.3659 | AE7: 3170.8288 | AF7: 3216.3763 | AG7: 3262.337 | AH7: 3308.6038
B8: Real GDP (Percentage change on a year earlier) | C8: 0.44000534 | D8: -11.593456 | E8: 9.5449816 | F8: 4.998996 | G8: 1.505151 | H8: 1.6421387 | I8: 1.7428307 | J8: 1.755445 | K8: 1.7479518 | L8: 1.7041564 | M8: 1.7957975 | N8: 1.2626841 | O8: -1.5186994 | P8: -2.5042715 | Q8: 0.24360008 | R8: 1.9346686 | S8: 2.7429095 | T8: 2.8519982 | U8: 2.2741037 | V8: 2.0691748 | W8: 1.8282712 | X8: 1.6080932 | Y8: 1.4610273 | Z8: 1.4932858 | AA8: 1.467651 | AB8: 1.479114 | AC8: 1.4841097 | AD8: 1.4808798 | AE8: 1.4546438 | AF8: 1.4364535 | AG8: 1.4289599 | AH8: 1.4182106
B9: Primary receipts | C9: 800.843 | D9: 762.78931 | E9: 793.85081 | F9: 858.38745 | G9: 915.42113 | H9: 961.84329 | I9: 1002.4032 | J9: 1042.269 | K9: 1083.2259 | L9: 1124.9855 | M9: 1169.3331 | N9: 1208.7393 | O9: 1235.0949 | P9: 1242.9286 | Q9: 1281.8789 | R9: 1340.6803 | S9: 1409.0062 | T9: 1474.1383 | U9: 1534.7374 | V9: 1595.2897 | W9: 1654.7004 | X9: 1711.7771 | Y9: 1771.8543 | Z9: 1835.3149 | AA9: 1900.7804 | AB9: 1968.9947 | AC9: 2039.5946 | AD9: 2115.0495 | AE9: 2192.8915 | AF9: 2273.2786 | AG9: 2356.3933 | AH9: 2442.4895
B10: of which:
B11: Fuel duty | C11: 27.572 | D11: 21.53798 | E11: 25.762542 | F11: 28.737422 | G11: 29.441855 | H11: 29.632336 | I11: 29.800027 | J11: 29.960402 | K11: 29.798909 | L11: 29.343037 | M11: 28.890911 | N11: 28.235751 | O11: 27.268564 | P11: 25.990999 | Q11: 24.412256 | R11: 22.538426 | S11: 20.458063 | T11: 18.510831 | U11: 16.659033 | V11: 14.910793 | W11: 13.252492 | X11: 11.683297 | Y11: 10.24144 | Z11: 8.9038674 | AA11: 7.6913889 | AB11: 6.6092421 | AC11: 5.583921 | AD11: 4.6104963 | AE11: 3.7128884 | AF11: 2.8768433 | AG11: 2.0796827 | AH11: 1.3938958
B12: VED | C12: 6.771 | D12: 6.938 | E12: 6.9551849 | F12: 6.9875024 | G12: 7.0742688 | H12: 7.1485302 | I12: 7.2409076 | J12: 7.3921072 | K12: 7.4425343 | L12: 7.3782691 | M12: 7.177946 | N12: 6.8009699 | O12: 6.3199063 | P12: 5.8325183 | Q12: 5.3332973 | R12: 4.8349475 | S12: 4.1406773 | T12: 3.647239 | U12: 3.1794818 | V12: 2.7382846 | W12: 2.3295867 | X12: 1.9584978 | Y12: 1.6292147 | Z12: 1.3427201 | AA12: 1.0983141 | AB12: 0.89391097 | AC12: 0.72633938 | AD12: 0.5813042 | AE12: 0.46027742 | AF12: 0.35875161 | AG12: 0.27255843 | AH12: 0.19805697
B13: APD | C13: 3.655 | D13: 0.60476139 | E13: 1.3482154 | F13: 2.0220758 | G13: 3.0955134 | H13: 3.8931504 | I13: 3.9716806 | J13: 4.1322016 | K13: 4.2984678 | L13: 4.4708043 | M13: 4.6486879 | N13: 4.5521768 | O13: 4.6476923 | P13: 4.6973799 | Q13: 4.7434715 | R13: 4.8419653 | S13: 4.9418031 | T13: 5.0832112 | U13: 5.2452589 | V13: 5.3798445 | W13: 5.5879775 | X13: 5.6701363 | Y13: 5.8394157 | Z13: 5.9079677 | AA13: 6.0916399 | AB13: 6.1651765 | AC13: 6.3150488 | AD13: 6.4378851 | AE13: 6.5932601 | AF13: 6.7485245 | AG13: 6.8579127 | AH13: 7.0541316
B14: Landfill | C14: 0.732 | D14: 0.71876983 | E14: 0.7316735 | F14: 0.69564982 | G14: 0.60077967 | H14: 0.57868571 | I14: 0.58439347 | J14: 0.59989642 | K14: 0.6155817 | L14: 0.63146016 | M14: 0.64742192 | N14: 0.663406 | O14: 0.67937686 | P14: 0.69534027 | Q14: 0.71142198 | R14: 0.7275285 | S14: 0.74356855 | T14: 0.76071355 | U14: 0.77800428 | V14: 0.79538411 | W14: 0.8127098 | X14: 0.82993003 | Y14: 0.84707797 | Z14: 0.86408203 | AA14: 0.88088704 | AB14: 0.89748864 | AC14: 0.91389533 | AD14: 0.9300764 | AE14: 0.94590988 | AF14: 0.96142341 | AG14: 0.97664758 | AH14: 0.99164506
B15: Plastics | C15: 0 | D15: 0 | E15: 0 | F15: 0.29369097 | G15: 0.23436551 | H15: 0.2132936 | I15: 0.19878866 | J15: 0.20406218 | K15: 0.20939772 | L15: 0.21479898 | M15: 0.22022857 | N15: 0.22566575 | O15: 0.23109844 | P15: 0.23652859 | Q15: 0.24199898 | R15: 0.24747781 | S15: 0.25293404 | T15: 0.25876612 | U15: 0.26464778 | V15: 0.27055974 | W15: 0.27645329 | X15: 0.28231096 | Y15: 0.28814405 | Z15: 0.29392819 | AA15: 0.29964462 | AB15: 0.30529186 | AC15: 0.31087279 | AD15: 0.31637698 | AE15: 0.32176294 | AF15: 0.32704006 | AG15: 0.33221875 | AH15: 0.33732033
B16: Carbon tax | C16: 1.5812711 | D16: 1.7214706 | E16: 1.7354169 | F16: 1.6910443 | G16: 1.6957065 | H16: 1.697572 | I16: 1.6310708 | J16: 1.6979481 | K16: 1.7672617 | L16: 1.8391494 | M16: 1.9133999 | N16: 1.9899364 | O16: 20.972191 | P16: 33.576653 | Q16: 44.663222 | R16: 54.29085 | S16: 61.281758 | T16: 59.96463 | U16: 58.580015 | V16: 57.119402 | W16: 55.223944 | X16: 51.913297 | Y16: 51.35867 | Z16: 51.219108 | AA16: 50.77264 | AB16: 50.246864 | AC16: 49.173139 | AD16: 50.197021 | AE16: 51.150147 | AF16: 52.019623 | AG16: 52.751975 | AH16: 53.381058
B17: Road tax | C17: 0 | D17: 0 | E17: 0 | F17: 0 | G17: 0 | H17: 0 | I17: 0 | J17: 0 | K17: 0 | L17: 0 | M17: 0 | N17: 0 | O17: 0 | P17: 0 | Q17: 0 | R17: 0 | S17: 0 | T17: 0 | U17: 0 | V17: 0 | W17: 0 | X17: 0 | Y17: 0 | Z17: 0 | AA17: 0 | AB17: 0 | AC17: 0 | AD17: 0 | AE17: 0 | AF17: 0 | AG17: 0 | AH17: 0
B18: Non net zero related receipts | C18: 760.53173 | D18: 731.26833 | E18: 757.31778 | F18: 817.96006 | G18: 873.27864 | H18: 918.67972 | I18: 958.97631 | J18: 998.28241 | K18: 1039.0937 | L18: 1081.108 | M18: 1125.8345 | N18: 1166.2714 | O18: 1174.9761 | P18: 1171.8992 | Q18: 1201.7733 | R18: 1253.1991 | S18: 1317.1874 | T18: 1385.9129 | U18: 1450.0309 | V18: 1514.0754 | W18: 1577.2172 | X18: 1639.4397 | Y18: 1701.6504 | Z18: 1766.7833 | AA18: 1833.9459 | AB18: 1903.8767 | AC18: 1976.5713 | AD18: 2051.9764 | AE18: 2129.7073 | AF18: 2209.9864 | AG18: 2293.1223 | AH18: 2379.1334
B19: Primary spending | C19: 830.44 | D19: 1097.8293 | E19: 1008.1873 | F19: 946.52593 | G19: 980.03982 | H19: 1014.087 | I19: 1053.1794 | J19: 1092.9989 | K19: 1132.8861 | L19: 1173.9868 | M19: 1222.0264 | N19: 1277.5513 | O19: 1299.6254 | P19: 1320.3256 | Q19: 1357.5369 | R19: 1408.313 | S19: 1469.8239 | T19: 1536.7782 | U19: 1590.7179 | V19: 1650.5815 | W19: 1711.5688 | X19: 1774.8021 | Y19: 1839.5058 | Z19: 1909.3021 | AA19: 1980.8744 | AB19: 2057.5116 | AC19: 2133.1248 | AD19: 2212.2641 | AE19: 2293.9728 | AF19: 2379.5901 | AG19: 2458.0291 | AH19: 2530.2507
B20: of which:
B21: Net zero spending | C21: 0 | D21: 0 | E21: 0 | F21: 0 | G21: 0 | H21: 0 | I21: 0 | J21: 1.8277365 | K21: 1.9267307 | L21: 2.0863239 | M21: 7.2975591 | N21: 21.973527 | O21: 20.083475 | P21: 22.748818 | Q21: 23.381905 | R21: 25.534461 | S21: 31.460172 | T21: 38.804582 | U21: 34.504841 | V21: 35.715486 | W21: 38.048382 | X21: 42.69369 | Y21: 41.810082 | Z21: 43.380773 | AA21: 44.513686 | AB21: 48.142458 | AC21: 47.958628 | AD21: 48.62243 | AE21: 49.44334 | AF21: 51.595114 | AG21: 43.434123 | AH21: 25.762773
B22: Non net zero spending | C22: 830.44 | D22: 1097.8293 | E22: 1008.1873 | F22: 946.52593 | G22: 980.03982 | H22: 1014.087 | I22: 1053.1794 | J22: 1091.1712 | K22: 1130.9594 | L22: 1171.9005 | M22: 1214.7289 | N22: 1255.5777 | O22: 1279.5419 | P22: 1297.5768 | Q22: 1334.155 | R22: 1382.7786 | S22: 1438.3637 | T22: 1497.9736 | U22: 1556.2131 | V22: 1614.866 | W22: 1673.5204 | X22: 1732.1084 | Y22: 1797.6957 | Z22: 1865.9214 | AA22: 1936.3607 | AB22: 2009.3691 | AC22: 2085.1662 | AD22: 2163.6416 | AE22: 2244.5294 | AF22: 2327.995 | AG22: 2414.595 | AH22: 2504.4879
B23: Primary deficit | C23: 29.597 | D23: 335.03995 | E23: 214.33648 | F23: 88.138489 | G23: 64.618695 | H23: 52.243731 | I23: 50.776217 | J23: 50.729887 | K23: 49.660235 | L23: 49.001295 | M23: 52.693337 | N23: 68.811973 | O23: 64.530442 | P23: 77.397003 | Q23: 75.657926 | R23: 67.632697 | S23: 60.817627 | T23: 62.639884 | U23: 55.980543 | V23: 55.291818 | W23: 56.868396 | X23: 63.024992 | Y23: 67.651491 | Z23: 73.98721 | AA23: 80.093983 | AB23: 88.516942 | AC23: 93.530237 | AD23: 97.214546 | AE23: 101.08122 | AF23: 106.3115 | AG23: 101.63581 | AH23: 87.761192
B24: Net interest spending | C24: 27.48 | D24: 19.58995 | E24: 19.929521 | F24: 19.376107 | G24: 21.572828 | H24: 23.743092 | I24: 25.048401 | J24: 30.367688 | K24: 36.469069 | L24: 42.994964 | M24: 49.980091 | N24: 57.546436 | O24: 66.005821 | P24: 75.063183 | Q24: 85.157013 | R24: 96.056623 | S24: 107.67137 | T24: 120.27804 | U24: 133.87527 | V24: 148.43756 | W24: 164.21854 | X24: 181.43197 | Y24: 192.83876 | Z24: 204.78064 | AA24: 217.35381 | AB24: 230.59754 | AC24: 244.63593 | AD24: 259.3759 | AE24: 274.77761 | AF24: 290.92289 | AG24: 307.90044 | AH24: 325.39666
B25: Public sector net borrowing | C25: 57.077 | D25: 354.6299 | E25: 234.266 | F25: 107.5146 | G25: 86.191523 | H25: 75.986823 | I25: 75.824618 | J25: 81.097576 | K25: 86.129304 | L25: 91.99626 | M25: 102.67343 | N25: 126.35841 | O25: 130.53626 | P25: 152.46019 | Q25: 160.81494 | R25: 163.68932 | S25: 168.489 | T25: 182.91792 | U25: 189.85582 | V25: 203.72938 | W25: 221.08694 | X25: 244.45696 | Y25: 260.49025 | Z25: 278.76784 | AA25: 297.4478 | AB25: 319.11448 | AC25: 338.16617 | AD25: 356.59045 | AE25: 375.85883 | AF25: 397.23438 | AG25: 409.53625 | AH25: 413.15785
B26: Public sector net debt | C26: 1798.2 | D26: 2197.9306 | E26: 2503.2244 | F26: 2631.562 | G26: 2748.9529 | H26: 2764.4407 | I26: 2809.7295 | J26: 2908.7707 | K26: 3013.5772 | L26: 3125.0058 | M26: 3247.9156 | N26: 3395.2371 | O26: 3546.893 | P26: 3720.4175 | Q26: 3902.8337 | R26: 4089.0487 | S26: 4281.2135 | T26: 4489.0425 | U26: 4704.9619 | V26: 4935.906 | W26: 5185.3427 | X26: 5459.2677 | Y26: 5750.3443 | Z26: 6060.8692 | AA26: 6391.2813 | AB26: 6744.617 | AC26: 7118.3111 | AD26: 7511.7848 | AE26: 7925.924 | AF26: 8362.8818 | AG26: 8813.6358 | AH26: 9269.5574
B27: £ billion, 2019 prices | C27: 2019-20 | D27: 2020-21 | E27: 2021-22 | F27: 2022-23 | G27: 2023-24 | H27: 2024-25 | I27: 2025-26 | J27: 2026-27 | K27: 2027-28 | L27: 2028-29 | M27: 2029-30 | N27: 2030-31 | O27: 2031-32 | P27: 2032-33 | Q27: 2033-34 | R27: 2034-35 | S27: 2035-36 | T27: 2036-37 | U27: 2037-38 | V27: 2038-39 | W27: 2039-40 | X27: 2040-41 | Y27: 2041-42 | Z27: 2042-43 | AA27: 2043-44 | AB27: 2044-45 | AC27: 2045-46 | AD27: 2046-47 | AE27: 2047-48 | AF27: 2048-49 | AG27: 2049-50 | AH27: 2050-51
B28: Primary receipts | C28: 795.77684 | D28: 707.96672 | E28: 748.87651 | F28: 810.89224 | G28: 847.60368 | H28: 872.37616 | I28: 890.12358 | J28: 904.69007 | K28: 919.10132 | L28: 933.07304 | M28: 948.05018 | N28: 957.96599 | O28: 956.84624 | P28: 941.26599 | Q28: 948.9374 | R28: 970.15284 | S28: 996.67188 | T28: 1019.2997 | U28: 1037.3423 | V28: 1054.0275 | W28: 1068.7007 | X28: 1080.7079 | Y28: 1093.4867 | Z28: 1107.1856 | AA28: 1120.8982 | AB28: 1135.019 | AC28: 1149.2825 | AD28: 1165.0052 | AE28: 1180.7252 | AF28: 1196.489 | AG28: 1212.3505 | AH28: 1228.3934
B29: of which:
B30: Fuel duty | C30: 27.397579 | D30: 19.990019 | E30: 24.303008 | F30: 27.14736 | G30: 27.260704 | H30: 26.876045 | I30: 26.462113 | J30: 26.005645 | K30: 25.283938 | L30: 24.337378 | M30: 23.423637 | N30: 22.37777 | O30: 21.125358 | P30: 19.682904 | Q30: 18.071677 | R30: 16.30942 | S30: 14.471175 | T30: 12.799399 | U30: 11.259985 | V30: 9.851744 | W30: 8.5592222 | X30: 7.3760953 | Y30: 6.3204283 | Z30: 5.3714129 | AA30: 4.5356443 | AB30: 3.8098708 | AC30: 3.14646 | AD30: 2.5395396 | AE30: 1.9991417 | AF30: 1.5141617 | AG30: 1.0699845 | AH30: 0.70102757
B31: VED | C31: 6.7281664 | D31: 6.4393576 | E31: 6.5611505 | F31: 6.6008788 | G31: 6.5501834 | H31: 6.4836002 | I31: 6.4298506 | J31: 6.416353 | K31: 6.3148814 | L31: 6.1196025 | M31: 5.8196019 | N31: 5.3899943 | O31: 4.8961246 | P31: 4.4169481 | Q31: 3.9480837 | R31: 3.4986998 | S31: 2.9289414 | T31: 2.5219001 | U31: 2.1490393 | V31: 1.8092183 | W31: 1.5045812 | X31: 1.2364718 | Y31: 1.0054577 | Z31: 0.81001927 | AA31: 0.64768045 | AB31: 0.51529135 | AC31: 0.4092819 | AD31: 0.32019222 | AE31: 0.24782856 | AF31: 0.18882083 | AG31: 0.14022971 | AH31: 0.09960816
B32: APD | C32: 3.6318783 | D32: 0.56129646 | E32: 1.2718345 | F32: 1.9101928 | G32: 2.8661874 | H32: 3.5310238 | I32: 3.526811 | J32: 3.5867532 | K32: 3.647187 | L32: 3.7081251 | M32: 3.768977 | N32: 3.6077512 | O32: 3.6006358 | P32: 3.5573113 | Q32: 3.5114529 | R32: 3.5037781 | S32: 3.4956241 | T32: 3.5148096 | U32: 3.545316 | V32: 3.5545294 | W32: 3.6090375 | X32: 3.5797658 | Y32: 3.6037519 | Z32: 3.5640843 | AA32: 3.5922656 | AB32: 3.5538909 | AC32: 3.5584401 | AD32: 3.5460964 | AE32: 3.5500289 | AF32: 3.5519339 | AG32: 3.5283558 | AH32: 3.5477118
B33: Landfill | C33: 0.72736934 | D33: 0.66711097 | E33: 0.69022176 | F33: 0.65715901 | G33: 0.55627191 | H33: 0.52485849 | I33: 0.51893532 | J33: 0.52071041 | K33: 0.52231206 | L33: 0.52373871 | M33: 0.52490473 | N33: 0.52577127 | O33: 0.52632327 | P33: 0.52657904 | Q33: 0.52664484 | R33: 0.52645945 | S33: 0.52596918 | T33: 0.52599886 | U33: 0.52585984 | V33: 0.52552005 | W33: 0.52489477 | X33: 0.52396538 | Y33: 0.52276785 | Z33: 0.52127251 | AA33: 0.51946278 | AB33: 0.51735368 | AC33: 0.51496701 | AD33: 0.51230187 | AE33: 0.50930911 | AF33: 0.50602356 | AG33: 0.50247944 | AH33: 0.49872488
B34: Plastics | C34: 0 | D34: 0 | E34: 0 | F34: 0.27744083 | G34: 0.21700293 | H34: 0.19345381 | I34: 0.17652226 | J34: 0.17712608 | K34: 0.1776709 | L34: 0.1781562 | M34: 0.17855283 | N34: 0.1788476 | O34: 0.17903537 | P34: 0.17912237 | Q34: 0.17914475 | R34: 0.17908169 | S34: 0.17891492 | T34: 0.17892502 | U34: 0.17887773 | V34: 0.17876214 | W34: 0.17854945 | X34: 0.1782333 | Y34: 0.17782595 | Z34: 0.17731729 | AA34: 0.17670169 | AB34: 0.17598425 | AC34: 0.17517239 | AD34: 0.17426581 | AE34: 0.17324779 | AF34: 0.17213017 | AG34: 0.17092459 | AH34: 0.16964743
B35: Carbon tax | C35: 1.5712679 | D35: 1.5977464 | E35: 1.6370998 | F35: 1.5974776 | G35: 1.5700829 | H35: 1.5396701 | I35: 1.4483739 | J35: 1.4738198 | K35: 1.4994957 | L35: 1.525407 | M35: 1.5513109 | N35: 1.5770906 | O35: 16.247465 | P35: 25.427496 | Q35: 33.062874 | R35: 39.286339 | S35: 43.348144 | T35: 41.462817 | U35: 39.59474 | V35: 37.739491 | W35: 35.666802 | X35: 32.774776 | Y35: 31.69562 | Z35: 30.898818 | AA35: 29.940839 | AB35: 28.964601 | AC35: 27.708364 | AD35: 27.649371 | AE35: 27.540928 | AF35: 27.379357 | AG35: 27.140581 | AH35: 26.846765
B36: Road tax | C36: 0 | D36: 0 | E36: 0 | F36: 0 | G36: 0 | H36: 0 | I36: 0 | J36: 0 | K36: 0 | L36: 0 | M36: 0 | N36: 0 | O36: 0 | P36: 0 | Q36: 0 | R36: 0 | S36: 0 | T36: 0 | U36: 0 | V36: 0 | W36: 0 | X36: 0 | Y36: 0 | Z36: 0 | AA36: 0 | AB36: 0 | AC36: 0 | AD36: 0 | AE36: 0 | AF36: 0 | AG36: 0 | AH36: 0
B37: Non net zero related receipts | C37: 755.72058 | D37: 678.71119 | E37: 714.4132 | F37: 772.70173 | G37: 808.58325 | H37: 833.22751 | I37: 851.56098 | J37: 866.50966 | K37: 881.65583 | L37: 896.68063 | M37: 912.7832 | N37: 924.30877 | O37: 910.27129 | P37: 887.47563 | Q37: 889.63752 | R37: 906.84906 | S37: 931.72311 | T37: 958.29583 | U37: 980.08847 | V37: 1000.3682 | W37: 1018.6577 | X37: 1035.0386 | Y37: 1050.1608 | Z37: 1065.8427 | AA37: 1081.4856 | AB37: 1097.482 | AC37: 1113.7698 | AD37: 1130.2634 | AE37: 1146.7047 | AF37: 1163.1766 | AG37: 1179.7979 | AH37: 1196.5299
B38: Primary spending | C38: 825.18661 | D38: 1018.9269 | E38: 951.07012 | F38: 894.15396 | G38: 907.43521 | H38: 919.76038 | I38: 935.21234 | J38: 948.72364 | K38: 961.2373 | L38: 973.71515 | M38: 990.77191 | N38: 1012.5018 | O38: 1006.8389 | P38: 999.8785 | Q38: 1004.9447 | R38: 1019.0937 | S38: 1039.6917 | T38: 1062.6123 | U38: 1075.18 | V38: 1090.5595 | W38: 1105.4296 | X38: 1120.4979 | Y38: 1135.2373 | Z38: 1151.8197 | AA38: 1168.1299 | AB38: 1186.0442 | AC38: 1201.9855 | AD38: 1218.5526 | AE38: 1235.1507 | AF38: 1252.4437 | AG38: 1264.6415 | AH38: 1272.5309
B39: of which:
B40: Net zero spending | C40: 0 | D40: 0 | E40: 0 | F40: 0 | G40: 0 | H40: 0 | I40: 0 | J40: 1.5864762 | K40: 1.6348028 | L40: 1.7304157 | M40: 5.9165796 | N40: 17.414749 | O40: 15.558964 | P40: 17.22761 | Q40: 17.308939 | R40: 18.477432 | S40: 22.253605 | T40: 26.831606 | U40: 23.322121 | V40: 23.597661 | W40: 24.573836 | X40: 26.954098 | Y40: 25.80278 | Z40: 26.170206 | AA40: 26.249907 | AB40: 27.751524 | AC40: 27.024004 | AD40: 26.78206 | AE40: 26.621927 | AF40: 27.155926 | AG40: 22.346601 | AH40: 12.956789
B41: Non net zero spending | C41: 825.18661 | D41: 1018.9269 | E41: 951.07012 | F41: 894.15396 | G41: 907.43521 | H41: 919.76038 | I41: 935.21234 | J41: 947.13716 | K41: 959.6025 | L41: 971.98473 | M41: 984.85533 | N41: 995.08701 | O41: 991.27996 | P41: 982.65089 | Q41: 987.6358 | R41: 1000.6163 | S41: 1017.4381 | T41: 1035.7807 | U41: 1051.8579 | V41: 1066.9618 | W41: 1080.8558 | X41: 1093.5438 | Y41: 1109.4345 | Z41: 1125.6495 | AA41: 1141.88 | AB41: 1158.2927 | AC41: 1174.9615 | AD41: 1191.7705 | AE41: 1208.5287 | AF41: 1225.2878 | AG41: 1242.2949 | AH41: 1259.5741
...

Sheet 1.4
A1: Back to contents
B2: Table 1.4: High productivity variant
B4: £ billion, unless otherwise stated | C4: 2019-20 | D4: 2020-21 | E4: 2021-22 | F4: 2022-23 | G4: 2023-24 | H4: 2024-25 | I4: 2025-26 | J4: 2026-27 | K4: 2027-28 | L4: 2028-29 | M4: 2029-30 | N4: 2030-31 | O4: 2031-32 | P4: 2032-33 | Q4: 2033-34 | R4: 2034-35 | S4: 2035-36 | T4: 2036-37 | U4: 2037-38 | V4: 2038-39 | W4: 2039-40 | X4: 2040-41 | Y4: 2041-42 | Z4: 2042-43 | AA4: 2043-44 | AB4: 2044-45 | AC4: 2045-46 | AD4: 2046-47 | AE4: 2047-48 | AF4: 2048-49 | AG4: 2049-50 | AH4: 2050-51
B5: Nominal GDP | C5: 2220.063 | D5: 2101.287 | E5: 2265.4919 | F5: 2371.503 | G5: 2451.2394 | H5: 2542.4765 | I5: 2641.7597 | J5: 2747.3049 | K5: 2857.7682 | L5: 2974.7891 | M5: 3095.8822 | N5: 3219.5426 | O5: 3345.5638 | P5: 3475.6501 | Q5: 3609.6455 | R5: 3749.229 | S5: 3895.1897 | T5: 4054.1663 | U5: 4221.6582 | V5: 4397.7027 | W5: 4582.7219 | X5: 4773.072 | Y5: 4962.8734 | Z5: 5160.299 | AA5: 5361.6319 | AB5: 5569.9217 | AC5: 5787.7539 | AD5: 6016.0956 | AE5: 6251.9605 | AF5: 6494.4413 | AG5: 6745.1356 | AH5: 7004.7982
